Workbook
Name AbschaltbareLast: Kataloge!#REF!
Name ArtStilllegung: Kataloge!$BT$2:$BT$3
Name Ausrichtung: Kataloge!$AL$2:$AL$11
Name Biomasseart: Kataloge!$BA$3:$BA$41
Name BrennstoffBiomasse: Kataloge!$AZ$3:$AZ$41
Name BrennstoffVerbrennung: Kataloge!$BC$3:$BC$31
Name BundeslandAWZ: Kataloge!$AB$2:$AB$23
Name ClusterNordsee: Kataloge!$AX$3:$AX$18
Name ClusterOstsee: Kataloge!$AV$2:$AV$6
Name Einsatzort: Kataloge!$BJ$2:$BJ$29
Name Einspeisung: Kataloge!$AD$2:$AD$3
Name EnergieträgerGSGK: Kataloge!$BF$4:$BF$7
Name EnergieträgerVerbrennung: Kataloge!$BD$3:$BD$33
Name Ertüchtigungsart: Kataloge!$BR$2:$BR$9
Name Ertuechtigungsart: 'EEG-Anlage'!$P$1
Name Flaechenart: Kataloge!#REF!
Name Gasspeicherart: Kataloge!$M$2:$M$4
Name Genehmigungsart: Kataloge!$BP$2:$BP$8
Name HerstellerWind: Kataloge!$G$2:$G$105
Name JaNein: Kataloge!$A$2:$A$3
Name Koordinatensysteme: Kataloge!$E$2:$E$4
Name Kopplung: Kataloge!$BL$2:$BL$3
Name LagePV: Kataloge!$AF$3:$AF$5
Name LageWind: Kataloge!$AR$2:$AR$3
Name Land: Kataloge!$Y$3:$Y$12
Name Leistungsbegrenzung: Kataloge!$AJ$2:$AJ$6
Name Neigungswinkel: Kataloge!$AN$2:$AN$7
Name Nutzungsbereich: Kataloge!$AP$2:$AP$7
Name Pumpspeichertechnologie: Kataloge!$BN$2:$BN$3
Name Seelage: Kataloge!$AT$2:$AT$3
Name Standortangabe: Kataloge!$C$2:$C$3
Name TechnologieBatterie: Kataloge!$Q$2:$Q$6
Name TechnologieGaserzeugung: Kataloge!$K$2:$K$6
Name TechnologieKernenergie: Kataloge!$O$2:$O$3
Name TechnologieStromspeicher: Kataloge!$Q$2:$Q$6
Name TechnologieVerbrennung: Kataloge!$S$3:$S$18
Name TechnologieWasser: Kataloge!$U$2:$U$7
Name TechnologieWind: Kataloge!$I$2:$I$3
Name Wechselrichter: Kataloge!#REF!
Name Zuflussart: Kataloge!$BH$2:$BH$4

Sheet Einheit
A1: Feldname | C1: SEE - Wind | D1: SEE - Solar | E1: SEE - Biomasse | F1: SEE - Wasser | G1: SEE - GSGK | H1: SEE - Verbrennung | I1: SEE - Kernenergie | J1: SEE - Speicher | K1: SVE | L1: GEE | M1: GEE - Speicher | N1: GVE | O1: Einheitentyp | P1: Reiter | Q1: Block | R1: Position | S1: Anordnung | T1: Vertraulich | U1: vorbefüllt | V1: nicht vorhanden | W1: NBP-relevant | X1: Kennzeichen | Y1: in Planung | Z1: in Betrieb | AA1: stillgelegt | AB1: Pflichtfelder | AC1: Feldtyp | AD1: Wertebereich oder Katalogname | AE1: Einheit | AF1: Zeichenanzahl | AG1: Werte | AH1: Sichtbarkeit | AI1: Berechnung | AJ1: Voreinstellung | AK1: Regeln | AL1: Hinweise | AM1: Warnhinweise | AN1: Hinweise
A2: Name der Einheit | C2: x | D2: x | E2: x | F2: x | G2: x | H2: x | I2: x | J2: x | K2: x | L2: x | M2: x | N2: x | P2: Allgemeine Daten | Q2: Name und Betriebsdaten | R2: 100 | U2: x | Y2: R | Z2: R | AA2: R | AC2: Text | AF2: 1-100 | AJ2: "Balkonkraftwerk" bei SSA "Name der Einheit" beim Speicher mit SSA
A3: Name des Windparks | C3: x | P3: Allgemeine Daten | Q3: Name und Betriebsdaten | R3: 101 | Y3: P | Z3: P | AA3: P | AC3: Text | AF3: 1-100
A4: Datum Beginn der vorübergehenden Stilllegung | C4: x | D4: x | E4: x | F4: x | G4: x | H4: x | I4: x | J4: x | K4: x | L4: x | M4: x | N4: x | P4: Allgemeine Daten | Q4: Name und Betriebsdaten | R4: 102 | AA4: (R) | AC4: Datum | AD4: Inbetriebnahmedatum < X < Heute | AF4: - | AH4: Betriebsstatus = Stillgelegt
A5: Datum Wiederaufnahme des Betriebs | C5: x | D5: x | E5: x | F5: x | G5: x | H5: x | I5: x | J5: x | K5: x | L5: x | M5: x | N5: x | P5: Allgemeine Daten | Q5: Name und Betriebsdaten | R5: 103 | Z5: (R) | AC5: Datum | AD5: Beginn vorübergehende Stilllegung < X <= Heute | AF5: - | AH5: X != NULL
A6: Geplantes Inbetriebnahmedatum | C6: x | D6: x | E6: x | F6: x | G6: x | H6: x | I6: x | J6: x | K6: x | L6: x | M6: x | N6: x | P6: Allgemeine Daten | Q6: Name und Betriebsdaten | R6: 104 | U6: x | Y6: R | AC6: Datum | AD6: Heute < X <= (Gestern + 30 Jahre) | AF6: - | AH6: Betriebsstatus = In Planung | AJ6: Geplantes Inbetriebnahmedatum der SSA bei SSA Speicher
A7: Inbetriebnahmedatum | C7: x | D7: x | E7: x | F7: x | G7: x | H7: x | I7: x | J7: x | K7: x | L7: x | M7: x | N7: x | P7: Allgemeine Daten | Q7: Name und Betriebsdaten | R7: 105 | U7: x | W7: x* SEE | Z7: R | AA7: R | AC7: Datum | AD7: 1.1.1900 < X <= Heute 1.1.2010 <= X <= Heute bei SSA Registrierung | AF7: - | AH7: Betriebsstatus != In Planung | AJ7: aktuelles Datum bei SSA Inbetriebnahmedatum der SSA bei SSA Speicher
A8: Datum der endgültigen Stilllegung | C8: x | D8: x | E8: x | F8: x | G8: x | H8: x | I8: x | J8: x | K8: x | L8: x | M8: x | N8: x | P8: Allgemeine Daten | Q8: Name und Betriebsdaten | R8: 106 | W8: x SEE | AA8: (R) | AC8: Datum | AD8: Inbetriebnahmedatum < X < Heute | AF8: - | AH8: Betriebsstatus = Stillgelegt
A9: Registrierungsdatum | C9: x | D9: x | E9: x | F9: x | G9: x | H9: x | I9: x | J9: x | K9: x | L9: x | M9: x | N9: x | P9: Allgemeine Daten | Q9: Name und Betriebsdaten | R9: 107 | AC9: Datum | AF9: - | AI9: Durch System gesetzt (siehe Hinweise) | AL9: Wird bei erstmaliger Registrierung sowie beim Übergang von In Planung zu In Betrieb überschrieben. Bearbeitbar durch FA+. | AN9: x
A10: Datum der letzten Aktualisierung | C10: x | D10: x | E10: x | F10: x | G10: x | H10: x | I10: x | J10: x | K10: x | L10: x | M10: x | N10: x | P10: Allgemeine Daten | Q10: Name und Betriebsdaten | R10: 108 | AC10: Datum | AF10: - | AI10: Durch System gesetzt (siehe Hinweise) | AL10: Wird bei jeder erneuten Aktualisierung überschrieben. | AN10: x
A11: Inbetriebnahmedatum am aktuellen Ort | C11: x | D11: x | E11: x | F11: x | G11: x | H11: x | I11: x | J11: x | K11: x | L11: x | M11: x | N11: x | P11: Allgemeine Daten | Q11: Name und Betriebsdaten | R11: 109 | W11: x | Z11: R | AA11: R | AC11: Datum | AD11: x <= Heute | AH11: Formular Standortänderung, wenn Vorfrage = Standortänderung | AL11: nicht bearbeitbar
A12: Datum der Registrierung des Betreiberwechsels | C12: x | D12: x | E12: x | F12: x | G12: x | H12: x | I12: x | J12: x | K12: x | L12: x | M12: x | N12: x | P12: Allgemeine Daten | Q12: Letzter Betreiberwechsel | R12: 200 | AC12: Datum | AD12: X <= Heute | AF12: - | AH12: wenn mind. ein Betreiberwechsel durchgeführt wurde | AI12: Durch System gesetzt | AL12: Bearbeitbar durch FA/FA+ (auch wenn es keinen Betreiberwechsel gab)
A13: Datum des Betreiberwechsels | C13: x | D13: x | E13: x | F13: x | G13: x | H13: x | I13: x | J13: x | K13: x | L13: x | M13: x | N13: x | P13: Allgemeine Daten | Q13: Letzter Betreiberwechsel | R13: 201 | Y13: (R) | Z13: (R) | AA13: (R) | AC13: Datum | AD13: X <= Heute | AF13: - | AH13: wenn mind. ein Betreiberwechsel durchgeführt wurde | AL13: Bearbeitbar durch FA/FA+ (auch wenn es keinen Betreiberwechsel gab) und Anlagenbetreiber
A14: Vorheriger Anlagenbetreiber | C14: x | D14: x | E14: x | F14: x | G14: x | H14: x | I14: x | J14: x | K14: x | L14: x | M14: x | N14: x | P14: Allgemeine Daten | Q14: Letzter Betreiberwechsel | R14: 202 | T14: x | AC14: Text | AF14: - | AH14: wenn mind. ein Betreiberwechsel durchgeführt wurde | AI14: Durch System gesetzt | AL14: Bearbeitbar durch FA/FA+ (auch wenn es keinen Betreiberwechsel gab)
A15: Land | C15: x | D15: x | E15: x | F15: x | G15: x | H15: x | I15: x | J15: x | K15: x | L15: x | M15: x | N15: x | P15: Allgemeine Daten | Q15: Standort | R15: 300 | U15: x | W15: x | Y15: R | Z15: R | AA15: R | AC15: Katalog | AD15: =Kataloge!Y1 -> Land | AF15: - | AJ15: Deutschland
A16: Lage (Wind) | C16: x | P16: Allgemeine Daten | Q16: Standort | R16: 301 | W16: x | Y16: R | Z16: R | AA16: R | AC16: Katalog | AD16: =Kataloge!AR1 -> Lage Wind | AF16: -
A17: Postleitzahl | C17: x | D17: x | E17: x | F17: x | G17: x | H17: x | I17: x | J17: x | K17: x | L17: x | M17: x | N17: x | P17: Allgemeine Daten | Q17: Standort | R17: 302 | T17: (x)* | U17: x | W17: x | Y17: R | Z17: R | AA17: R | AC17: Text | AD17: Formatprüfung | AF17: 5 wenn Land = DE | AH17: bei Wind: Nur wenn Lage = an Land | AJ17: aus ABR-Daten übernommen bei SG und SSA Speicher: aus Solareinheit übernommen bei SG und SSA | AM17: • Adress-Duplikat: Identischer Standort (Straße, Hausnummer, Postleitzahl, Ort) und Energieträger einer bereits registrierten, aktiven Einheit
A18: Ort | C18: x | D18: x | E18: x | F18: x | G18: x | H18: x | I18: x | J18: x | K18: x | L18: x | M18: x | N18: x | P18: Allgemeine Daten | Q18: Standort | R18: 303 | T18: (x)* | U18: x | W18: x | Y18: R | Z18: R | AA18: R | AC18: Text | AF18: 2-100 | AH18: bei Wind: Nur wenn Lage = an Land | AI18: Aus BKG, wenn Land = Deutschland | AJ18: aus ABR-Daten übernommen bei SG und SSA Speicher: aus Solareinheit übernommen bei SG und SSA
A19: Art der Standortangabe | C19: x | D19: x | E19: x | F19: x | G19: x | H19: x | I19: x | J19: x | K19: x | L19: x | M19: x | N19: x | P19: Allgemeine Daten | Q19: Standort | R19: 304 | Y19: R | Z19: R | AA19: R | AC19: Katalog | AD19: =Kataloge!D1 -> Standortangabe | AF19: - | AH19: Land = DE, bei Wind: Nur wenn Lage = an Land | AK19: x
A20: Straße | C20: x | D20: x | E20: x | F20: x | G20: x | H20: x | I20: x | J20: x | K20: x | L20: x | M20: x | N20: x | P20: Allgemeine Daten | Q20: Standort | R20: 305 | T20: (x) | U20: x | W20: x | Y20: R | Z20: R | AA20: R | AC20: Text | AF20: 1-100 | AH20: Standortangabe = postalische Adresse | AI20: Aus BKG, wenn Land = Deutschland | AJ20: aus ABR-Daten übernommen bei SG und SSA Speicher: aus Solareinheit übernommen bei SG und SSA
A21: Hausnummer | C21: x | D21: x | E21: x | F21: x | G21: x | H21: x | I21: x | J21: x | K21: x | L21: x | M21: x | N21: x | P21: Allgemeine Daten | Q21: Standort | R21: 306 | T21: (x) | U21: x | V21: x | W21: x | Y21: R | Z21: R | AA21: R | AC21: Text | AD21: Formatprüfung | AF21: 1-12 | AH21: Standortangabe = postalische Adresse | AI21: Aus BKG, wenn Land = Deutschland | AJ21: aus ABR-Daten übernommen bei SG und SSA Speicher: aus Solareinheit übernommen bei SG und SSA
A22: Adresszusatz | C22: x | D22: x | E22: x | F22: x | G22: x | H22: x | I22: x | J22: x | K22: x | L22: x | M22: x | N22: x | P22: Allgemeine Daten | Q22: Standort | R22: 307 | T22: (x) | U22: x | W22: x | AC22: Text | AF22: 2-100 | AH22: Standortangabe = postalische Adresse | AI22: Aus BKG, wenn Land = Deutschland | AJ22: aus ABR-Daten übernommen bei SG und SSA Speicher: aus Solareinheit übernommen bei SG und SSA
A23: Gemarkung | C23: x | D23: x | E23: x | F23: x | G23: x | H23: x | I23: x | J23: x | K23: x | L23: x | M23: x | N23: x | P23: Allgemeine Daten | Q23: Standort | R23: 308 | T23: (x) | Y23: R | Z23: R | AA23: R | AC23: Text | AF23: 1-100 | AH23: Standortangabe = Über Flurdaten
A24: Flur und Flurstück | C24: x | D24: x | E24: x | F24: x | G24: x | H24: x | I24: x | J24: x | K24: x | L24: x | M24: x | N24: x | P24: Allgemeine Daten | Q24: Standort | R24: 309 | T24: (x) | W24: x | Y24: R | Z24: R | AA24: R | AC24: Text | AF24: 1-2048 | AH24: Standortangabe = Über Flurdaten
A25: Bundesland | C25: x | D25: x | E25: x | F25: x | G25: x | H25: x | I25: x | J25: x | K25: x | L25: x | M25: x | N25: x | P25: Allgemeine Daten | Q25: Standort | R25: 310 | Y25: R | Z25: R | AA25: R | AC25: Katalog | AD25: =(Kataloge!AC1)&" (berechnet)" -> Bundesland + AWZ (berechnet) | AF25: - | AH25: Land = DE | AI25: Aus BKG-Daten, ermittelt aus PLZ/Ort , bei Wind: Nur wenn Lage = an Land | AL25: Wird bearbeitbar, wenn nicht eindeutig
A26: Landkreis | C26: x | D26: x | E26: x | F26: x | G26: x | H26: x | I26: x | J26: x | K26: x | L26: x | M26: x | N26: x | P26: Allgemeine Daten | Q26: Standort | R26: 311 | Y26: R | Z26: R | AA26: R | AC26: Text | AD26: Aus BKG-Daten (berechnet) | AF26: 1 - 50 | AH26: Land = DE, bei Wind: Nur wenn Lage = an Land | AI26: Aus BKG-Daten, ermittelt aus PLZ/Ort
A27: Gemeinde | C27: x | D27: x | E27: x | F27: x | G27: x | H27: x | I27: x | J27: x | K27: x | L27: x | M27: x | N27: x | P27: Allgemeine Daten | Q27: Standort | R27: 312 | T27: (x)* | Y27: R | Z27: R | AA27: R | AC27: Text | AD27: Aus BKG-Daten (berechnet) | AF27: 1 - 50 | AH27: Land = DE, bei Wind: Nur wenn Lage = an Land | AI27: Aus BKG-Daten, ermittelt aus PLZ/Ort
A28: Gemeindeschlüssel | C28: x | D28: x | E28: x | F28: x | G28: x | H28: x | I28: x | J28: x | K28: x | L28: x | M28: x | N28: x | P28: Allgemeine Daten | Q28: Standort | R28: 313 | T28: (x)* | Y28: R | Z28: R | AA28: R | AC28: Text | AD28: Aus BKG-Daten (berechnet) | AF28: 1 - 8 | AH28: Land = DE, bei Wind: Nur wenn Lage = an Land | AI28: Aus BKG-Daten, ermittelt aus PLZ/Ort
A29: Seelage | C29: x | P29: Allgemeine Daten | Q29: Standort | R29: 314 | Y29: R | Z29: R | AA29: R | AC29: Katalog | AD29: =Kataloge!AT1 -> Seelage | AF29: - | AH29: nur Wind und Lage = auf See
A30: Gebiet nach dem Flächenentwicklungsplan des BSH (Ostsee) | C30: x | P30: Allgemeine Daten | Q30: Standort | R30: 315 | Y30: R | Z30: R | AA30: R | AC30: Katalog | AD30: =Kataloge!AV1 -> Gebiet nach dem Flächenentwicklungsplan des BSH (Ostsee) | AF30: - | AH30: nur Wind und Seelage = Ostsee
A31: Gebiet nach dem Flächenentwicklungsplan des BSH (Nordsee) | C31: x | P31: Allgemeine Daten | Q31: Standort | R31: 316 | Y31: R | Z31: R | AA31: R | AC31: Katalog | AD31: =Kataloge!AX1 -> Gebiet nach dem Flächenentwicklungsplan des BSH (Nordsee) | AF31: - | AH31: nur Wind und Seelage = Nordsee
A32: Küstenentfernung | C32: x | P32: Allgemeine Daten | Q32: Standort | R32: 317 | Z32: P | AA32: P | AC32: Dezimalzahl | AD32: 1 <= X <= 1.000 | AE32: sm | AF32: - | AH32: nur Wind und Lage = auf See
A33: Wassertiefe | C33: x | P33: Allgemeine Daten | Q33: Standort | R33: 318 | Z33: P | AA33: P | AC33: Dezimalzahl | AD33: 1 <= X <= 1.000 | AE33: m | AF33: - | AH33: nur Wind und Lage = auf See
A34: Art der Koordinatenangabe | C34: x | D34: x | E34: x | F34: x | G34: x | H34: x | I34: x | J34: x | K34: x | L34: x | M34: x | N34: x | P34: Allgemeine Daten | Q34: Geografische Koordinaten | R34: 400 | U34: x | Y34: R | Z34: R | AA34: R | AC34: Katalog | AD34: =Kataloge!F1 -> Koordinatensysteme | AF34: - | AJ34: Längen- und Breitengerad WGS84
A35: Breitengrad | C35: x | D35: x | E35: x | F35: x | G35: x | H35: x | I35: x | J35: x | K35: x | L35: x | M35: x | N35: x | P35: Allgemeine Daten | Q35: Geografische Koordinaten | R35: 401 | T35: (x) | U35: x | Y35: R | Z35: R | AA35: R | AC35: Dezimalzahl | AD35: 46 <= X <= 59 | AE35: °N | AF35: - | AH35: Art der Koordinateneingabe = Länge/Breite | AI35: Wenn zutreffend umgerechneter Wert aus anderem Koordinatensystem | AJ35: aus ABR-Daten übernommen bei SG und SSA Speicher: aus Solareinheit übernommen bei SOGund SSA | AL35: Kann per Karte gesetzt werden, außer bei Wind
A36: Längengrad | C36: x | D36: x | E36: x | F36: x | G36: x | H36: x | I36: x | J36: x | K36: x | L36: x | M36: x | N36: x | P36: Allgemeine Daten | Q36: Geografische Koordinaten | R36: 402 | T36: (x) | U36: x | Y36: R | Z36: R | AA36: R | AC36: Dezimalzahl | AD36: 4 <= X <= 18 | AE36: °O | AF36: - | AH36: Art der Koordinateneingabe = Länge/Breite | AI36: Wenn zutreffend umgerechneter Wert aus anderem Koordinatensystem | AJ36: aus ABR-Daten übernommen bei SG und SSA Speicher: aus Solareinheit übernommen bei SG und SSA | AL36: Kann per Karte gesetzt werden, außer bei Wind
A37: UTM Ostwert | C37: x | D37: x | E37: x | F37: x | G37: x | H37: x | I37: x | J37: x | K37: x | L37: x | M37: x | N37: x | P37: Allgemeine Daten | Q37: Geografische Koordinaten | R37: 403 | T37: (x) | Y37: R | Z37: R | AA37: R | AC37: Dezimalzahl | AD37: Umgerechneter Wert muss Min/Max für Länge/Breite entsprechen | AF37: - | AH37: Art der Koordinateneingabe = UTM | AI37: Wenn zutreffend umgerechneter Wert aus anderem Koordinatensystem | AL37: Kann per Karte gesetzt werden, außer bei Wind
A38: UTM Nordwert | C38: x | D38: x | E38: x | F38: x | G38: x | H38: x | I38: x | J38: x | K38: x | L38: x | M38: x | N38: x | P38: Allgemeine Daten | Q38: Geografische Koordinaten | R38: 404 | T38: (x) | Y38: R | Z38: R | AA38: R | AC38: Dezimalzahl | AD38: Umgerechneter Wert muss Min/Max für Länge/Breite entsprechen | AF38: - | AH38: Art der Koordinateneingabe = UTM | AI38: Wenn zutreffend umgerechneter Wert aus anderem Koordinatensystem | AL38: Kann per Karte gesetzt werden, außer bei Wind
A39: UTM Zonenwert | C39: x | D39: x | E39: x | F39: x | G39: x | H39: x | I39: x | J39: x | K39: x | L39: x | M39: x | N39: x | P39: Allgemeine Daten | Q39: Geografische Koordinaten | R39: 405 | T39: (x) | Y39: R | Z39: R | AA39: R | AC39: Katalog | AD39: =Kataloge!BV1 -> UTM-Zonenwert | AF39: - | AH39: Art der Koordinateneingabe = UTM | AI39: Wenn zutreffend umgerechneter Wert aus anderem Koordinatensystem | AL39: Kann per Karte gesetzt werden, außer bei Wind
A40: Gauß-Krüger Hochwert | C40: x | D40: x | E40: x | F40: x | G40: x | H40: x | I40: x | J40: x | K40: x | L40: x | M40: x | N40: x | P40: Allgemeine Daten | Q40: Geografische Koordinaten | R40: 406 | T40: (x) | Y40: R | Z40: R | AA40: R | AC40: Dezimalzahl | AD40: Umgerechneter Wert muss Min/Max für Länge/Breite entsprechen | AE40: m | AF40: - | AH40: Art der Koordinateneingabe = Gauß-Krüger | AI40: Wenn zutreffend umgerechneter Wert aus anderem Koordinatensystem | AL40: Kann per Karte gesetzt werden, außer bei Wind
...

Sheet EEG-Anlage
A1: Feldname | C1: SEE Wind | D1: SEE Solar | E1: SEE Biomasse | F1: SEE Wasser | G1: SEE GSGK | H1: SEE Speicher | I1: Einheitentypen | J1: Reiter | K1: Block | L1: Position | M1: Anordnung | N1: Vertraulich | O1: vorbefüllt | P1: nicht vorhanden | Q1: NBP-relevant | R1: Kennzeichen | S1: in Planung | T1: in Betrieb | U1: stillgelegt | V1: Pflichtfelder | W1: Feldtyp | X1: Wertebereich oder Katalogname | Y1: Einheit | Z1: Zeichenanzahl | AA1: Werte | AB1: Sichtbarkeit | AC1: Berechnung | AD1: Voreinstellung | AE1: Regeln | AF1: Hinweise | AG1: Warnhinweise | AH1: Hinweise
A2: EEG-Inbetriebnahmedatum | C2: x | D2: x | E2: x | F2: x | G2: x | H2: x | J2: EEG-Anlage | K2: Kennungen und Betriebsdaten | L2: 10 | O2: x | Q2: x | T2: R | U2: R | W2: Datum | X2: 01.01.1900 < X <= Heute | Z2: - | AD2: Inbetriebnahmedatum der ersten angeschlossenen Einheit bei Solar und Wind: nicht bearbeitbar, wenn IB-Datum der Einheit ab 01.01.2000
A3: Installierte Leistung | C3: x | D3: x | E3: x | F3: x | G3: x | J3: EEG-Anlage | K3: Kennungen und Betriebsdaten | L3: 11 | Q3: x | T3: R | U3: R | W3: Dezimalzahl | X3: 0 < X <= 5.000.000 / bei stillg. Anlagen: 0 <= x <= 5.000.000 bei Solar berechnet aus Bruttoleistung | Y3: kW, bei Solar: kWp | Z3: - | AD3: Bruttoleistung der ersten angeschlossenen Einheit bei allen EEG-Anlagen | AG3: • Flexible Registrierung Solar-EEG: Installierte Leistung zu hoch
A4: Anlagenschlüssel EEG | C4: x | D4: x | E4: x | F4: x | G4: x | H4: x | J4: EEG-Anlage | K4: Kennungen und Betriebsdaten | L4: 12 | P4: x | W4: Text | X4: Formatprüfung (nicht beim Speicher) | Z4: 33 (nicht beim Speicher) | AF4: nur noch durch Netzbetreiber und BNetzA bearbeitbar
A5: Anlagenkennziffer aus dem Anlagenregister | C5: x | D5: x | E5: x | F5: x | G5: x | J5: EEG-Anlage | K5: Kennungen und Betriebsdaten | L5: 13 | P5: x | T5: (P) | U5: (P) | W5: Text | X5: Formatprüfung | Z5: 14 | AB5: 31.7.2014 < EEG Inbetriebnahmedatum < 31.1.2019
A6: Registrierungsnummer (PV-Melderegister) | D6: x | J6: EEG-Anlage | K6: Kennungen und Betriebsdaten | L6: 15 | P6: x | T6: (P) | U6: (P) | W6: Text | X6: Formatprüfung | Z6: 13 | AB6: 01.01.2009 <= EEG Inbetriebnahmedatum < [Go-Live des MaStR]
A7: Registrierungsdatum | C7: x | D7: x | E7: x | F7: x | G7: x | H7: x | J7: EEG-Anlage | K7: Kennungen und Betriebsdaten | L7: 16 | W7: Datum | Z7: - | AC7: Durch System gesetzt (siehe Hinweise) | AF7: Wird bei erstmaliger Registrierung der zugehörigen Einheit gesetzt bzw. beim erstmaligen Speichern der EEG-Anlage wenn Einheit bereits registriert war. Auch beim Statuswechsel der EEG von Planung zu Betrieb. Bearbeitbar durch FA+.
A8: Datum der letzten Aktualisierung | C8: x | D8: x | E8: x | F8: x | G8: x | H8: x | J8: EEG-Anlage | K8: Kennungen und Betriebsdaten | L8: 17 | W8: Datum | Z8: - | AC8: Durch System gesetzt (siehe Hinweise) | AF8: Wird bei jeder erneuten Aktualisierung überschrieben.
A9: Ausschließliche Verwendung von Biomasse im Sinne der Biomasse-Verordnung | E9: x | J9: EEG-Anlage | K9: Weitere Stammdaten zur EEG-Anlage | L9: 20 | T9: P | U9: P | W9: Katalog | X9: Ja/Nein | Z9: -
A10: Zuschlag erlangt | C10: x | D10: x | E10: x | H10: x | J10: EEG-Anlage | K10: Weitere Stammdaten zur EEG-Anlage | L10: 21 | T10: P | U10: P | W10: Katalog | X10: Ja/Nein | Z10: - | AB10: bei Solar Nettonennleistung >= 25 kW bei Speicher Bruttoleistung >= 25 kW nicht bei Technologie Wind = Flugwindenergieanlage
A11: Zuschlagsnummern | C11: x | D11: x | E11: x | H11: x | J11: EEG-Anlage | K11: Weitere Stammdaten zur EEG-Anlage | L11: 22 | Q11: x | T11: (P) | U11: (P) | W11: Text | X11: Formatprüfung | Z11: 1-4000 | AB11: Zuschlag erlangt = ja nicht bei Technologie Wind = Flugwindenergieanlage
A12: Zugeordnete Gebotsmengen | D12: x | J12: EEG-Anlage | K12: Weitere Stammdaten zur EEG-Anlage | L12: 24 | Q12: x | T12: (P) | U12: (P) | W12: Dezimalzahl | X12: 1 <= X <= 100.000 | Y12: kWp | Z12: - | AB12: Zuschlag erlangt = ja
A13: Pilotwindanlage | C13: x | J13: EEG-Anlage | K13: Weitere Stammdaten zur EEG-Anlage | L13: 25 | Q13: x | T13: (P) | U13: (P) | W13: Katalog | X13: Ja/Nein | Z13: - | AB13: EEG Inbetriebnahmedatum > 31.12.2016 nicht bei Technologie Wind = Flugwindenergieanlage
A14: Prototypanlage | C14: x | J14: EEG-Anlage | K14: Weitere Stammdaten zur EEG-Anlage | L14: 26 | T14: (P) | U14: (P) | W14: Katalog | X14: Ja/Nein | Z14: - | AB14: EEG Inbetriebnahmedatum < 01.01.2017 nicht bei Technologie Wind = Flugwindenergieanlage
A15: Mieterstrom angemeldet | D15: x | J15: EEG-Anlage | K15: Weitere Stammdaten zur EEG-Anlage | L15: 27 | Q15: x | W15: Katalog | X15: Ja/Nein | Z15: - | AB15: Installierte Leistung <= 100 kW und EEG Inbetriebnahmedatum > 24.07.2017 und Inbetriebnahme der Einheit < 01.01.2023
A16: Datum der erstmaligen Zuordnung zur Veräußerungsform des Mieterstromzuschlags | D16: x | J16: EEG-Anlage | K16: Weitere Stammdaten zur EEG-Anlage | L16: 28 | Q16: x | T16: R | U16: R | W16: Datum | X16: 24.07.2017 < X | Z16: - | AB16: Mieterstrom angemeldet = ja
A17: Meldedatum Mieterstrom | D17: x | J17: EEG-Anlage | K17: Weitere Stammdaten zur EEG-Anlage | L17: 30 | W17: Datum | Z17: - | AB17: Mieterstrom angemeldet = ja | AC17: Durch System gesetzt (siehe Hinweise) | AF17: Das Feld wird vom System bei der Ersteintragung des Datums der erstmaligen Zuordnung zur Veräußerungsform des Mieterstromzuschlags gesetzt. Bearbeitbar durch FA+.
A18: Verhältnis der Ertragseinschätzung zum Referenzertrag | C18: x | J18: EEG-Anlage | K18: Erträge nach Referenzertragsmodell | L18: 40 | P18: x | T18: (P) | U18: (P) | W18: Dezimalzahl | X18: 0 <= X <= 200 | Y18: Prozent | Z18: - | AB18: EEG Inbetriebnahmedatum > 01.01.2017 oder Betriebsstatus = in Planung nicht bei Technologie Wind = Flugwindenergieanlage
A19: Verhältnis des Ertrags zum Referenzertrag nach fünf Jahren | C19: x | J19: EEG-Anlage | K19: Erträge nach Referenzertragsmodell | L19: 41 | P19: x | T19: P | U19: P | W19: Dezimalzahl | X19: 0 <= X <= 200 | Y19: Prozent | Z19: - | AB19: nicht bei Technologie Wind = Flugwindenergieanlage
A20: Verhältnis des Ertrags zum Referenzertrag nach zehn Jahren | C20: x | J20: EEG-Anlage | K20: Erträge nach Referenzertragsmodell | L20: 42 | P20: x | T20: (P) | U20: (P) | W20: Dezimalzahl | X20: 0 <= X <= 200 | Y20: Prozent | Z20: - | AB20: EEG Inbetriebnahmedatum > 31.12.2011 nicht bei Technologie Wind = Flugwindenergieanlage
A21: Verhältnis des Ertrags zum Referenzertrag nach fünfzehn Jahren | C21: x | J21: EEG-Anlage | K21: Erträge nach Referenzertragsmodell | L21: 43 | P21: x | T21: (P) | U21: (P) | W21: Dezimalzahl | X21: 0 <= X <= 200 | Y21: Prozent | Z21: - | AB21: EEG Inbetriebnahmedatum > 01.01.2017 nicht bei Technologie Wind = Flugwindenergieanlage
A22: Gaserzeugungskapazität | E22: x | J22: EEG-Anlage | K22: Angaben bei Einsatz von Biogas | L22: 50 | P22: x | T22: (P) | U22: (P) | W22: Dezimalzahl | X22: 0 < X <= 1.000.000 | Y22: kWh/h | Z22: - | AB22: Hauptbrennstoff = Biogas (vor Ort verstromt)
A23: Höchstbemessungsleistung | E23: x | J23: EEG-Anlage | K23: Angaben bei Einsatz von Biogas | L23: 51 | Q23: x | T23: (P)** | U23: (P)** | W23: Dezimalzahl | X23: 0 < X <= 1.000.000 | Y23: kW | Z23: - | AB23: Hauptbrennstoff = Biogas (vor Ort verstromt) oder Biomethan und EEG Inbetriebnahmedatum < 01.08.2014 | AF23: hier können bis zu 7 Nachkommastellen angegeben werden
A24: Inanspruchnahme Flexibilitätsprämie | E24: x | J24: EEG-Anlage | K24: Angaben bei Einsatz von Biogas | L24: 52 | Q24: x | T24: (P) | U24: (P) | W24: Katalog | X24: Ja/Nein | Z24: - | AB24: Hauptbrennstoff = Biogas (vor Ort verstromt) oder Biomethan und Inbetriebnahme der Einheit < 01.01.2023
A25: Datum der Inanspruchnahme der Flexibilitätsprämie | E25: x | J25: EEG-Anlage | K25: Angaben bei Einsatz von Biogas | L25: 53 | Q25: x | T25: (P) | U25: (P) | W25: Datum | X25: X < heute + 3 Monate | Z25: - | AB25: Inanspruchnahme Flexibilitätsprämie = Ja
A26: Leistungserhöhung | E26: x | J26: EEG-Anlage | K26: Angaben bei Einsatz von Biogas | L26: 54 | T26: (P) | U26: (P) | W26: Katalog | X26: Ja/Nein | Z26: - | AB26: Inanspruchnahme Flexibilitätsprämie = Ja
A27: Datum der Leistungserhöhung | E27: x | J27: EEG-Anlage | K27: Angaben bei Einsatz von Biogas | L27: 55 | T27: (P) | U27: (P) | W27: Datum | X27: X < heute + 3 Monate | Z27: - | AB27: Leistungserhöhung = Ja
A28: Umfang der Leistungserhöhung | E28: x | J28: EEG-Anlage | K28: Angaben bei Einsatz von Biogas | L28: 56 | T28: (P) | U28: (P) | W28: Dezimalzahl | X28: 0 < X <= 1.000.000 | Y28: kW | Z28: - | AB28: Leistungserhöhung = Ja
A29: Datum des erstmaligen ausschließlichen Einsatzes von Biomethan | E29: x | J29: EEG-Anlage | K29: Angaben bei Einsatz von Biomethan | L29: 60 | P29: x | T29: (P) | U29: (P) | W29: Datum | X29: X < heute | Z29: - | AB29: Hauptbrennstoff = Biomethan
S32: Erläuterung:
S33: () | T33: Es liegt eine Einschränkung vor, diese Einschränkung ergibt sich aus der Spalte "Sichtbarkeit"
S34: ** | T34: Bei Bestandsanlagen (EEG-Inbetriebnahmedatum < 1.7.2017)
S35: R | T35: erforderlich zur Registrierung
S36: P | T36: verpflichtend gemäß MaStRV
S37: vorbefüllt | T37: ergibt sich aus Spalte "Voreinstellung"

Sheet KWK-Anlage
A1: Feldname | C1: SEE Biomasse | D1: SEE GSGK | E1: SEE Verbrennung | F1: Einheitentypen | G1: Reiter | H1: Block | I1: Position | J1: Anordnung | K1: Vertraulich | L1: nicht vorhanden | M1: NBP-relevant | N1: Kennzeichen | O1: in Planun | P1: in Betrieb | Q1: stillgelegt | R1: Pflichtfelder | S1: Feldtyp | T1: Wertebereich oder Katalogname | U1: Einheit | V1: Zeichenanzahl | W1: Werte | X1: Sichtbarkeit | Y1: Berechnung | Z1: Voreinstellung | AA1: Regeln | AB1: Hinweise | AC1: Hinweise
A2: Registrierungsdatum | C2: x | D2: x | E2: x | G2: KWK-Anlage | H2: Kennungen und Betriebsdaten | I2: 12 | S2: Datum | V2: - | Y2: Durch System gesetzt (siehe Hinweise) | AB2: Wird bei erstmaliger Registrierung der zugehörigen Einheit gesetzt bzw. beim erstmaligen Speichern der KWK-Anlage, wenn Einheit bereits registriert war. Auch beim Statuswechsel der KWK von Planung zu Betrieb. Bearbeitbar durch FA+.
A3: Datum der letzten Aktualisierung | C3: x | D3: x | E3: x | G3: KWK-Anlage | H3: Kennungen und Betriebsdaten | I3: 13 | S3: Datum | V3: - | Y3: Durch System gesetzt (siehe Hinweise) | AB3: Wird bei jeder erneuten Aktualisierung überschrieben.
A4: Thermische Nutzleistung | C4: x | D4: x | E4: x | G4: KWK-Anlage | H4: Weitere Stammdaten zur KWK-Anlage | I4: 10 | P4: R | Q4: R | S4: Zahl | T4: 0 < X <= 5.000.000 | U4: kW | V4: -
A5: Elektrische KWK Leistung | C5: x | D5: x | E5: x | G5: KWK-Anlage | H5: Weitere Stammdaten zur KWK-Anlage | I5: 11 | M5: x | P5: R | Q5: R | S5: Zahl | T5: 0 < X <= 5.000.000 | U5: kW | V5: -
A6: Inbetriebnahmedatum | C6: x | D6: x | E6: x | G6: KWK-Anlage | H6: Weitere Stammdaten zur KWK-Anlage | I6: 14 | M6: x | P6: R | Q6: R | S6: Datum | T6: 01.01.1900 <= X <= Heute | V6: - | Z6: Inbetriebnahmedatum der ersten angeschlossenen Einheit
A7: Zuschlag erlangt | C7: x | D7: x | E7: x | G7: KWK-Anlage | H7: Weitere Stammdaten zur KWK-Anlage | I7: 15 | P7: P | Q7: P | S7: Katalog | T7: =Kataloge!$B$1 -> Ja/Nein | V7: -
A8: Zuschlagsnummer | C8: x | D8: x | E8: x | G8: KWK-Anlage | H8: Weitere Stammdaten zur KWK-Anlage | I8: 16 | P8: P | Q8: P | S8: Text | V8: 1-12 | X8: Zuschlag erlangt = Ja
O11: R | P11: erforderlich zur Registrierung
O12: P | P12: verpflichtend gemäß MaStRV

Sheet Speicher
A1: Feldname | C1: Strom | D1: Gas | E1: Einheitentypen | F1: Reiter | G1: Block | H1: Position | I1: Anordnung | J1: Vertraulich | K1: nicht vorhanden | L1: NBP-relevant | M1: Kennzeichen | N1: in Planun | O1: in Betrieb | P1: stillgelegt | Q1: Pflichtfelder | R1: Feldtyp | S1: Wertebereich oder Katalogname | T1: Einheit | U1: Zeichenanzahl | V1: Werte | W1: Sichtbarkeit | X1: Berechnung | Y1: Voreinstellung | Z1: Regeln | AA1: Hinweise | AB1: Hinweise
A2: Registrierungsdatum | C2: x | D2: x | F2: Speicher | H2: 10 | R2: Datum | X2: Durch System gesetzt (siehe Hinweise) | AA2: Wird bei erstmaliger Registrierung der zugehörigen Einheit gesetzt bzw. beim erstmaligen Speichern der Speicheranlage, wenn Einheit bereits registriert war. Auch beim Statuswechsel des Speichers von Planung zu Betrieb. Bearbeitbar durch FA+.
A3: Datum der letzten Aktualisierung | C3: x | D3: x | F3: Speicher | H3: 11 | R3: Datum | X3: Durch System gesetzt (siehe Hinweise) | AA3: Wird bei jeder erneuten Aktualisierung überschrieben.
A4: Nutzbare Speicherkapazität | C4: x | F4: Speicher | H4: 12 | L4: x* | N4: R | O4: R | P4: R | R4: Dezimalzahl | S4: 0<X<= 1.000.000.000 | T4: kWh | U4: -
A5: Speichername | D5: x | F5: Speicher | H5: 13 | O5: R | R5: Text | U5: 1 - 255
A6: Speicherart | D6: x | F6: Speicher | H6: 14 | L6: x | N6: R | O6: R | P6: R | R6: Katalog | S6: =Kataloge!M1 -> Gasspeicherart | U6: -
A7: Maximal nutzbares Arbeitsgasvolumen | D7: x | F7: Speicher | H7: 15 | L7: x | O7: R | P7: R | R7: Dezimalzahl | S7: 0 < X | T7: kWh | U7: -
A8: Maximale Einspeicherleistung | D8: x | F8: Speicher | H8: 16 | O8: R | P8: R | R8: Dezimalzahl | S8: 0 < X | T8: kWh/h | U8: -
A9: Maximale Ausspeicherleistung | D9: x | F9: Speicher | H9: 17 | O9: R | P9: R | R9: Dezimalzahl | S9: 0 < X | T9: kWh/h | U9: -
A10: Durchschnittlicher Brennwert | D10: x | F10: Speicher | H10: 18 | R10: Dezimalzahl | S10: 5 <= X <= 15 | T10: kWh/Nm³ | U10: -
A11: Energy Identification Code für technische Ressourcen (W-EIC) | D11: x | F11: Speicher | H11: 19 | K11: x | O11: P | P11: P | R11: Text | S11: Formatprüfung | U11: 16
N14: Erläuterung:
N15: * | O15: Nur bei Neueinheiten (Inbetriebnahmedatum >= 1.7.2017)
N16: R | O16: erforderlich zur Registrierung
N17: P | O17: verpflichtend gemäß MaStRV

Sheet Genehmigung
A1: Feldname | C1: SEE Wasser | D1: Alle anderen | E1: Einheitentypen | F1: Reiter | G1: Block | H1: Position | I1: Anordnung | J1: Vertraulich | K1: nicht vorhanden | L1: ld | M1: Kennzeichen | N1: alles Status | O1: Pflichtfelder | P1: Feldtyp | Q1: Wertebereich oder Katalogname | R1: Einheit | S1: Zeichenanzahl | T1: Werte | U1: Sichtbarkeit | V1: Berechnung | W1: Voreinstellung | X1: Regeln | Y1: Hinweise | Z1: Hinweise
A2: Art der Genehmigung | C2: x | D2: x | F2: Genehmigungen | G2: Daten der Genehmigung | H2: 10 | N2: R | P2: Katalog | Q2: =Kataloge!BP1 -> Genehmigungsart | S2: - | U2: nicht bei PV und Verbrennung mit Bruttoleistung <= 100kW und Stromspeichern mit Nettonennleistung <= 100kW
A3: Datum der Antragstellung | C3: x | D3: x | F3: Genehmigungen | G3: Daten der Genehmigung | H3: 11 | N3: R | P3: Datum | Q3: 1.1.1900 < X < Genehmigungsdatum | U3: nicht bei PV und Verbrennung mit Bruttoleistung <= 100kW und Stromspeichern mit Nettonennleistung <= 100kW und nicht wenn Registrierungsdatum der Genehmigung < 1.1.2025
A4: Genehmigungsdatum | C4: x | D4: x | F4: Genehmigungen | G4: Daten der Genehmigung | H4: 12 | N4: R | P4: Datum | Q4: 1.1.1900 < X <= Heute | S4: - | U4: nicht bei PV und Verbrennung mit Bruttoleistung <= 100kW und Stromspeichern mit Nettonennleistung <= 100kW
A5: Genehmigungsbehörde | C5: x | D5: x | F5: Genehmigungen | G5: Daten der Genehmigung | H5: 13 | N5: R | P5: Text | S5: 1-255 | U5: nicht bei PV und Verbrennung mit Bruttoleistung <= 100kW und Stromspeichern mit Nettonennleistung <= 100kW
A6: Aktenzeichen der Genehmigung gemäß Genehmigungsbehörde | C6: x | D6: x | F6: Genehmigungen | G6: Daten der Genehmigung | H6: 14 | N6: P | P6: Text | S6: 1-100 | U6: nicht bei PV und Verbrennung mit Bruttoleistung <= 100kW und Stromspeichern mit Nettonennleistung <= 100kW
A7: Genehmigungsfrist | C7: x | D7: x | F7: Genehmigungen | G7: Daten der Genehmigung | H7: 15 | K7: x | N7: P | P7: Datum | Q7: Genehmigungsdatum < X | S7: - | U7: nicht bei PV und Verbrennung mit Bruttoleistung <= 100kW und Stromspeichern mit Nettonennleistung <= 100kW
A8: Genehmigungsnummer nach dem Wasserrecht (Wasserrechtsnummer) | C8: x | F8: Genehmigungen | G8: Daten der Genehmigung | H8: 16 | N8: P | P8: Text | S8: 1-255 | U8: nicht bei PV und Verbrennung mit Bruttoleistung <= 100kW und Stromspeichern mit Nettonennleistung <= 100kW
A9: Ablaufdatum der Genehmigung nach dem Wasserrecht | C9: x | F9: Genehmigungen | G9: Daten der Genehmigung | H9: 17 | K9: x | N9: P | P9: Datum | Q9: Heute < X | S9: - | U9: nicht bei PV und Verbrennung mit Bruttoleistung <= 100kW und Stromspeichern mit Nettonennleistung <= 100kW
A10: Registrierungsdatum | C10: x | D10: x | F10: Genehmigungen | G10: Daten der Genehmigung | H10: 18 | P10: Datum | S10: - | U10: nicht bei PV und Verbrennung mit Bruttoleistung <= 100kW und Stromspeichern mit Nettonennleistung <= 100kW | V10: Durch System gesetzt (siehe Hinweise) | Y10: Wird bei erstmaliger Registrierung der zugehörigen Einheit gesetzt bzw. beim erstmaligen Speichern der Genehmigung, wenn Einheit bereits registriert war. Bearbeitbar durch FA+.
A11: Datum der letzten Aktualisierung | C11: x | D11: x | F11: Genehmigungen | G11: Daten der Genehmigung | H11: 19 | P11: Datum | S11: - | U11: nicht bei PV und Verbrennung mit Bruttoleistung <= 100kW und Stromspeichern mit Nettonennleistung <= 100kW | V11: Durch System gesetzt (siehe Hinweise) | Y11: Wird bei jeder erneuten Aktualisierung überschrieben.
N13: R | O13: erforderlich zur Registrierung
N14: P | O14: verpflichtend gemäß MaStRV

Sheet Ertüchtigungsmaßnahme
A1: Feldname | C1: Reiter | D1: Block | E1: Position | F1: Anordnung | G1: Vertraulich | H1: nicht vorhanden | I1: NBP-relevant | J1: Kennzeichen | K1: in Planun | L1: in Betrieb | M1: stillgelegt | N1: Pflichtfelder | O1: Feldtyp | P1: Wertebereich oder Katalogname | Q1: Einheit | R1: Zeichenanzahl | S1: Werte | T1: Sichtbarkeit | U1: Berechnung | V1: Voreinstellung | W1: Regeln | X1: Hinweise | Y1: Hinweise
A2: Art der Ertüchtigung | C2: EEG-Anlage | D2: Ertüchtigungsmaßnahmen | E2: 42 | L2: P | O2: Katalog | P2: =Kataloge!BR1 -> Ertüchtigungsart | R2: - | X2: Bei der Eingabe einer Ertüchtigungsmaßnahme muss u.U. der Wert der installierten Leistung der EEG-Anlage angepasst werden.
A3: Datum der Wiederinbetriebnahme nach Durchführung der Ertüchtigungsmaßnahme | C3: EEG-Anlage | D3: Ertüchtigungsmaßnahmen | E3: 43 | L3: P | O3: Datum | R3: -
A4: Prozentuale Erhöhung des Leistungsvermögens | C4: EEG-Anlage | D4: Ertüchtigungsmaßnahmen | E4: 44 | L4: P | O4: Dezimalzahl | P4: 0 <= X <= 300 | Q4: Prozent | R4: -
A5: Zulassungspflichtige Ertüchtigungsmaßnahme | C5: EEG-Anlage | D5: Ertüchtigungsmaßnahmen | E5: 45 | L5: P | O5: Katalog | P5: Ja/Nein | R5: -
K9: P | L9: verpflichtend gemäß MaStRV

Sheet Kataloge
A1: Ja/Nein | B1: =A1 -> Ja/Nein | C1: Standortangabe | D1: =C1 -> Standortangabe | E1: Koordinatensysteme | F1: =E1 -> Koordinatensysteme | G1: Hersteller Wind | H1: =G1 -> Hersteller Wind | I1: Technologie Wind | J1: =I1 -> Technologie Wind | K1: Technologie Gaserzeugung | L1: =K1 -> Technologie Gaserzeugung | M1: Gasspeicherart | N1: =M1 -> Gasspeicherart | O1: Technologie Kernenergie | P1: =O1 -> Technologie Kernenergie | Q1: Technologie Stromspeicher | R1: =Q1 -> Technologie Stromspeicher | S1: Technologie Verbrennung | T1: =S1 -> Technologie Verbrennung | U1: Technologie Wasser | V1: =U1 -> Technologie Wasser | W1: Technologie Batteriespeicher | X1: =W1 -> Technologie Batteriespeicher | Y1: Land | AA1: =Y1 -> Land | AB1: Bundesland + AWZ | AC1: =AB1 -> Bundesland + AWZ | AD1: Art der Einspeisung | AE1: =AD1 -> Art der Einspeisung | AF1: Art der Solaranlage | AG1: =AF1 -> Art der Solaranlage | AH1: Solaranlagen-Kategorie | AI1: Solaranlagen-Kategorie | AJ1: Leistungsbegrenzung | AK1: =AJ1 -> Leistungsbegrenzung | AL1: Ausrichtung | AM1: =AL1 -> Ausrichtung | AN1: Neigungswinkel | AO1: =AN1 -> Neigungswinkel | AP1: Nutzungsbereich | AQ1: =AP1 -> Nutzungsbereich | AR1: Lage Wind | AS1: =AR1 -> Lage Wind | AT1: Seelage | AU1: =AT1 -> Seelage | AV1: Gebiet nach dem Flächenentwicklungsplan des BSH (Ostsee) | AW1: =AV1 -> Gebiet nach dem Flächenentwicklungsplan des BSH (Ostsee) | AX1: Gebiet nach dem Flächenentwicklungsplan des BSH (Nordsee) | AY1: =AX1 -> Gebiet nach dem Flächenentwicklungsplan des BSH (Nordsee) | AZ1: Biomasse | BB1: =AZ1 -> Biomasse | BC1: Verbrennung | BE1: =BC1 -> Verbrennung | BF1: Energieträger GSGK | BG1: =BF1 -> Energieträger GSGK | BH1: Zuflussart | BI1: =BH1 -> Zuflussart | BJ1: Einsatzort | BK1: =BJ1 -> Einsatzort | BL1: Kopplung | BM1: =BL1 -> Kopplung | BN1: Pumpspeichertechnologie | BO1: =BN1 -> Pumpspeichertechnologie | BP1: Genehmigungsart | BQ1: =BP1 -> Genehmigungsart | BR1: Ertüchtigungsart | BS1: =BR1 -> Ertüchtigungsart | BT1: Art der Stilllegung | BU1: =BT1 -> Art der Stilllegung | BV1: UTM-Zonenwert | BW1: =BV1 -> UTM-Zonenwert | BX1: Technologie (Flugwind) | BY1: =BX1 -> Technologie (Flugwind) | BZ1: Solar Flächenmerkmale | CA1: Solar Flächenmerkmale | CB1: Überwiegende Nutzungsart der Fläche | CC1: Überwiegende Nutzungsart der Fläche | CD1: Vorheriger Nutzungsartenbereich der Fläche | CE1: Vorheriger Nutzungsartenbereich der Fläche
A2: Ja | C2: postalische Adresse | E2: Länge und Breite nach WGS84 | G2: ABB Power-One Italy SpA | I2: Horizontalläufer | K2: Biomethan-Erzeugung | M2: Aquiferspeicher | O2: Siedewasserreaktor | Q2: Batterie | S2: Verbrennungsmotor | U2: Abwasserkraftanlage | W2: Lithium-Batterie | Y2: Land | Z2: Kürzel | AB2: Baden-Württemberg | AD2: Volleinspeisung | AF2: Steckerfertige Solaranlage (sog. Balkonkraftwerk) | AH2: Steckerfertige Solaranlage (sog. Balkonkraftwerk) | AJ2: Nein | AL2: Süd | AN2: unter 5 Grad (horizontal) | AP2: Gewerbe, Handel und Dienstleistungen | AR2: Wind an Land | AT2: Ostsee | AV2: kein Gebiet nach dem Flächenentwicklungsplan des BSH | AX2: kein Gebiet nach dem Flächenentwicklungsplan des BSH | AZ2: Hauptbrennstoff Biomasse | BA2: Biomasseart | BC2: Hauptbrennstoff Verbrennung | BD2: Energieträger Verbrennung | BF2: Druck aus Gasleitungen | BH2: Ausleitungskraftwerk | BJ2: Haushalt | BL2: AC gekoppeltes System | BN2: Pumpspeicheranlage mit natürlichem Zufluss | BP2: nach Baurecht | BR2: Austausch von Generatoren, Getrieben, Turbinen oder Laufrädern | BT2: vorübergehend | BV2: UTM-Zone 31 | BX2: Flexibler Drachen (Softkite) | BZ2: Zusätzliche Merkmale zur aktuellen Flächennutzung | CB2: Vegetation | CD2: Vegetation
A3: Nein | C3: Über Flurdaten | E3: Gauß-Krüger-Koordinaten | G3: Adwen GmbH | I3: Vertikalläufer | K3: Förderung fossilen Erdgases | M3: Kavernenspeicher | O3: Druckwasserreaktor | Q3: Pumpspeicher | S3: Brennstoffzelle | U3: Laufwasseranlage | W3: Blei-Batterie | Y3: Deutschland | Z3: DE | AB3: Bayern | AD3: Teileinspeisung (einschließlich Eigenverbrauch) | AF3: Gebäudesolaranlage | AH3: Gebäudesolaranlage | AJ3: Ja, auf 50% | AL3: Süd-West | AN3: 5 - 20 Grad | AP3: Haushalt | AR3: Wind auf See | AT3: Nordsee | AV3: O-1 | AX3: N-1 | AZ3: Altholz, Gebrauchtholz, Holz(sperr)müll | BA3: Feste Biomasse | BC3: Kohlenwertstoffe aus Steinkohle | BD3: Steinkohle | BF3: Druck aus Wasserleitungen | BH3: Flusskraftwerk | BJ3: Alten-/Pflegeheim | BL3: DC gekoppeltes System | BN3: Pumpspeicheranlage ohne natürlichen Zufluss | BP3: nach BImSchG i.V.m 4. BImSchV | BR3: Automatische Einsatzoptimierung bei Kraftwerken mit mehreren Turbinen | BT3: endgültig | BV3: UTM-Zone 32 | BX3: Starrflügler (Fixed Wing) | BZ3: Fläche wird landwirtschaftlich genutzt | CB3: Landwirtschaft - Ackerland | CD3: Siedlung
E4: UTM-Werte nach WGS-84 | G4: Aeolos Windkraftanlagen | I4: Flugwindenergieanlage | K4: Liquefied Natural Gas | M4: Porenspeicher | Q4: Druckluft | S4: Dampfmotor | U4: Meeresenergie | W4: Redox-Flow-Batterie | Y4: Dänemark | Z4: DK | AB4: Berlin | AF4: Freiflächensolaranlage | AH4: Andere Solaranlage | AJ4: Ja, auf 60% | AL4: Süd-Ost | AN4: 21 - 40 Grad | AP4: Industrie | AV4: O-2 | AX4: N-2 | AZ4: Biodiesel | BA4: Flüssige Biomasse | BC4: Steinkohlen | BF4: Geothermie | BH4: Restwasserkraftwerk | BJ4: Bahn | BP4: nach BImSchG i.V.m 13. BImSchV | BR4: Automatische Rechenreinigung | BV4: UTM-Zone 33 | BX4: Hybrid | BZ4: Fläche wird als Parkplatz genutzt | CB4: Landwirtschaft - Grünland | CD4: Verkehr
G5: Alpha projekt GmbH | K5: Power-to-Gas (Methan) | Q5: Schwungrad | S5: Gasturbinen mit Abhitzekessel | U5: Speicherwasseranlage | W5: Hochtemperaturbatterie | Y5: Niederlande | Z5: NL | AB5: Brandenburg | AF5: Sonstige Solaranlage | AJ5: Ja, auf 70% | AL5: West | AN5: 41 - 60 Grad | AP5: Landwirtschaft | AV5: O-3 | AX5: N-3 | AZ5: Biogas | BA5: Gasförmige Biomasse | BC5: Steinkohlenbriketts | BF5: Solarthermie | BJ5: Bank | BP5: nach BImSchG i.V.m 17. BImSchV | BR5: Automatische Wasserstandsregelung | BX5: Sonstige | BZ5: Fläche ist ein wiedervernässter Moorboden | CB5: Landwirtschaft - Gartenbauland | CD5: Gewässer
G6: ALPHACON GmbH | K6: Power-to-Gas (Wasserstoff) | Q6: Wasserstoff | S6: Gasturbinen mit nachgeschalteter Dampfturbine | U6: Wasserkraftanlage in Brauchwassersystem | W6: Nickel-Cadmium- / Nickel-Metallhydridbatterie | Y6: Belgien | Z6: BE | AB6: Bremen | AJ6: Ja, sonstige | AL6: Ost-West | AN6: 61 - 89 Grad | AP6: Öffentliches Gebäude | AV6: O-4 | AX6: N-4 | AZ6: Biomethan (Bioerdgas) | BA6: Gasförmige Biomasse | BC6: Steinkohlenkoks | BF6: Klärschlamm | BJ6: Bergbau | BP6: nach BImSchG andere | BR6: Einsatz permanent erregter Generatoren | BZ6: Besondere Solaranlage: Die Anlage genügt den Anforderungen der maßgeblichen Festlegung der Bundesnetzagentur nach § 85c EEG | CB6: Landwirtschaft - Rebfläche
G7: Amperax Energie GmbH | S7: Gasturbinen ohne Abhitzekessel | U7: Wasserkraftanlage in Trinkwassersystem | W7: Sonstige Batterie | Y7: Luxemburg | Z7: LU | AB7: Hamburg | AL7: Ost | AN7: 90 Grad (vertikal) | AP7: Sonstige | AV7: O-5 | AX7: N-5 | AZ7: Biomethanol | BA7: Flüssige Biomasse | BC7: Braunkohlenbriketts | BD7: Braunkohle | BF7: Grubengas | BJ7: Flughafen | BP7: nach Wasserhaushaltsgesetz | BR7: Erweiterung der Anlage durch Erhöhung des Ausbaudurchflusses und/oder der Fallhöhe | CB7: Landwirtschaft - Obst- und Nussplantage
G8: AN Windenergie GmbH | S8: Gegendruckmaschine mit Entnahme | Y8: Frankreich | Z8: FR | AB8: Hessen | AL8: Nord-West | AN8: Nachgeführt | AV8: O-6 | AX8: N-6 | AZ8: Brennlauge, Schwarzlauge, Sulfitablauge | BA8: Feste Biomasse | BC8: Braunkohlenkoks | BJ8: Hochhaus | BP8: nach Windenergie-auf-See-Gesetz | BR8: Verbesserung der Zu- und Abströmung (Hydraulik-Turbinenzuströmung, Ober- und Unterwasserkanal) | BZ8: Zusätzliche Merkmale gemäß § 37 Abs. 1 EEG oder § 48 Abs. 1 EEG | CB8: Landwirtschaft - Weihnachtsbaumkultur
G9: Anhui Hummer Dynamo Co.,Ltd. | S9: Gegendruckmaschine ohne Entnahme | Y9: Schweiz | Z9: CH | AB9: Mecklenburg-Vorpommern | AL9: Nord-Ost | AX9: N-7 | AZ9: Deponiegas | BA9: Gasförmige Biomasse | BC9: Hartbraunkohlen | BJ9: Hotel | BP9: Sonstige | BR9: Sonstige | BZ9: Versiegelte Fläche | CB9: Landwirtschaft - Kurzumtriebsplantage
G10: AN-Maschinenbau- und Umweltschutzanlagen GmbH | S10: Kalina-Cycle | Y10: Österreich | Z10: AT | AB10: Niedersachsen | AL10: Nord | AX10: N-8 | AZ10: Energiepflanzen zur Verbrennung (z.B. Kurzumtriebs-Holz) | BA10: Feste Biomasse | BC10: Rohbraunkohlen | BJ10: Industrie | BZ10: Konversionsfläche | CB10: Landwirtschaft - Brachland
G11: AREVA GmbH | S11: Kondensationsmaschine mit Entnahme | Y11: Polen | Z11: PL | AB11: Nordrhein-Westfalen | AL11: nachgeführt | AX11: N-9 | AZ11: Feste biogene Stoffe | BA11: Feste Biomasse | BC11: Staub- und Trockenkohle | BJ11: Kaufhaus | BZ11: Randstreifen längs von Autobahnen oder Schienenwegen | CB11: Gehölz
G12: Autoflug GmbH | S12: Kondensationsmaschine ohne Entnahme | Y12: Tschechische Republik | Z12: CZ | AB12: Rheinland-Pfalz | AX12: N-10 | AZ12: Feste biogene Stoffe und Abfälle (ohne Holz) | BA12: Feste Biomasse | BC12: Wirbelschichtkohle | BJ12: Kraftwerk | BZ12: Bebauungsplan vor 01.09.2003 und nicht geändert | CB12: Heide
G13: awinco Ingenieur GmbH & Co. KG | S13: ORC (Organic Rankine Cycle)-Anlage | AB13: Saarland | AX13: N-11 | AZ13: Flüssige biogene Stoffe und Abfälle | BA13: Flüssige Biomasse | BC13: Dieselkraftstoff | BD13: Mineralölprodukte | BJ13: Krankenhaus | BZ13: Im Bebauungsplan vor 01.01.2010 als Gewerbe- oder Industriegebiet ausgewiesen | CB13: Moor
G14: BARD Holding GmbH | S14: Stirlingmotor | AB14: Sachsen | AX14: N-12 | AZ14: Harzöl | BA14: Flüssige Biomasse | BC14: Heizöl, leicht | BJ14: Kultur und Messe | BZ14: Planfeststellungsverfahren oder sonstiges Verfahren nach § 38 BauGB | CB14: Sumpf
G15: Bonus Energy A/S | S15: Sonstige | AB15: Sachsen-Anhalt | AX15: N-13 | AZ15: Holzgas (Gas Biomasse) | BA15: Gasförmige Biomasse | BC15: Heizöl, schwer | BJ15: Logistikzentrum (z.B. Kühlhaus) | BZ15: Eigentum des Bundes oder Besitz oder Verwaltung des Bundesamtes für Immobilienaufgaben | CB15: Unland / Vegetationslose Fläche
G16: BRAUN Windturbinen GmbH | AB16: Schleswig-Holstein | AZ16: Holzkohle | BA16: Feste Biomasse | BC16: Flüssiggas | BJ16: Mastbetrieb | BZ16: Benachteiligtes Gebiet | CB16: Wald - Laubholz
G17: BWE Service GmbH | AB17: Thüringen | AZ17: Holz-Pellets, Holz-Briketts | BA17: Feste Biomasse | BC17: Petrolkoks | BJ17: Militär, Polizei und Justiz | CB17: Wald - Nadelholz
G18: bwu Brandenburgische Wind- und Umwelttechnologien GmbH | AB18: Ausschließliche Wirtschaftszone | AZ18: Holzreste (z.B. aus Schreinereien, auch Spanholz) | BA18: Feste Biomasse | BC18: Raffineriegas | BJ18: Rechenzentrum | BZ18: Sonstige Merkmale | CB18: Wald - Laub und Nadelholz
G19: Dethloff & Lange GmbH | AZ19: Holzspäne, Sägemehl | BA19: Feste Biomasse | BC19: Andere Mineralölprodukte | BJ19: Regierungsgebäude | BZ19: Einheit auf einer sonstigen baulichen Anlage | CB19: Wald - Dauerhaft unbestockt
G20: DeWind GmbH | AZ20: Klärgas | BA20: Gasförmige Biomasse | BC20: Erdgas, Erdölgas | BD20: Erdgas | BJ20: Sendeanstalt | BZ20: Einheit an einer Lärmschutzwand | CB20: Landwirtschaft Baumschule
G21: Easywind GmbH | AZ21: Palmöl u.a. Pflanzenöle | BA21: Flüssige Biomasse | BC21: Grubengas | BD21: Andere Gase | BJ21: Sportstätte | BZ21: Einheit an einem Zaun
G22: ENERCON GmbH | AZ22: Rinde und Landschaftspflegeholz | BA22: Feste Biomasse | BC22: Hochofengas, Konvertergas | BJ22: Telekommunikationsbranche | CB22: Siedlung
G23: eno energy GmbH | AZ23: Schleifstaub, biogen | BA23: Feste Biomasse | BC23: Kokereigas | BJ23: Tunnel und Straßen | BZ23: Kein zusätzliches Merkmal | CB23: Wohnbaufläche
G24: Enron Wind GmbH | AZ24: Stroh, Strohpellets | BA24: Feste Biomasse | BC24: Andere Gase | BJ24: Veranstaltungsgebäude | BZ24: Kein zusätzliches Merkmal | CB24: Industrie- und Gewerbefläche
G25: Eovent GmbH | AZ25: Terpentin | BA25: Flüssige Biomasse | BC25: Sonstige hergestellte Gase | BJ25: Verlagshaus | CB25: Halde
G26: ESPV-TEC GmbH & Co. KG | AZ26: Tier- und Blutmehl | BA26: Feste Biomasse | BC26: Industrieabfall | BD26: Nicht biogener Abfall | BJ26: Versicherung | CB26: Bergbaubetrieb
G27: Euroturbine B.V. | AZ27: Tierfett | BA27: Feste Biomasse | BC27: Abfall (Hausmüll, Siedl.abf.) | BJ27: Wasser- und Klärwerk | CB27: Tagebau, Grube, Steinbruch
G28: EUSAG AG | AZ28: Wald-Holzhackschnitzel, Wald-Scheitholz, -Kronenholz | BA28: Feste Biomasse | BC28: Dampf (zum Beispiel Prozesswärme) | BD28: Wärme | BJ28: Wohngebäude | CB28: Fläche gemischter Nutzung
G29: EVIAG AG | AZ29: Wald-Stammholz, Rundholz | BA29: Feste Biomasse | BC29: Wärme | BJ29: sonstige | CB29: Fläche besonderer funktionaler Prägung
G30: Fortis Wind Energy | BC30: Wasserstoff | BD30: Wasserstoff | CB30: Sport-, Freizeit- und Erholungsfläche
G31: Frisia Windkraftanlagen Service GmbH | CB31: Friedhof
G32: Fuhrländer AG
G33: FuSystems SkyWind GmbH | CB33: Verkehr
G34: FWT energy GmbH | CB34: Straßenverkehr
G35: Gamesa Corporación Tecnológica S.A. | CB35: Weg
G36: GE Renewable Germany GmbH | CB36: Platz
G37: GE Wind Energy GmbH | CB37: Bahnverkehr
G38: General Electric Deutschland Holding GmbH | CB38: Flugverkehr
G39: Gödecke Energie- und Antriebstechnik GmbH | CB39: Schiffsverkehr
G40: Hanseatische AG
...

Sheet Formatprüfung
A1: Blatt | B1: Feldname | C1: Regulärer Ausdruck | D1: Beispiele
A2: Einheit | B2: PLZ | C2: wenn Deutschland: ^[0-9]{5}$ (Deutschland) bzw. Wenn Ausland: (^[0-9]{3,10}$)|(^(?=.[a-zA-Z].)([a-zA-Z0-9]{3,8}$)) | D2: 39108 542 1296854578 ???
A3: Einheit | B3: Hausnummer | C3: ^[0-9]{0,5}[/ - 0-9 a-z A-Z]*$ | D3: ???
A4: Einheit | B4: Einsatzverantwortlicher (Marktpartner-ID) | C4: \d{13}
A5: Einheit | B5: MaStR-Nummern der Stromerzeugungseinheiten | C5: ^SEE[0-9]{12}(; SEE[0-9]{12})*$ | D5: SEE916815344799; SEE911395772475
A6: Einheit | B6: W-EIC | C6: ^11W[0-9a-zA-Z\-]{13}$ | D6: 11W27S9zu371-236
A7: Einheit | B7: BNetzA-Kraftwerksnummer | C7: ^BNA[0-9]{4}[a-z]?$ | D7: BNA2486 oder BNA7561b
A8: EEG-Anlage | B8: Anlagenschlüssel EEG | C8: ^E([\x20-\xFF])([^< >]){31}$ | D8: E1728hdG-9874nhfzzrn89263045867AB
A9: EEG-Anlage | B9: Anlagenkennziffer aus dem Anlagenregister | C9: ^A[0-9]{13}$ | D9: A1256894575365
A10: EEG-Anlage | B10: Zuschlagsnummern | C10: für Wind an Land, Solar, Speicher und Biomasse: ^[a-zA-Z]{3}[0-9]{2}{-}[0-9]{1}/[0-9]{3}(; [a-zA-Z]{3}[0-9]{1}{-}[0-9]{2}/[0-9]{3})*$ für Wind auf See: ^BK6-[0-9]{2}{-}[0-9]{3}{-}[0-9]{2}(; BK6-[0-9]{2}{-}[0-9]{3}{-}[0-9]{2})*$ | D10: WIN17-1/010;BIO15-1/344 BK6-18-001-07;BK6-12-346-09
A11: EEG-Anlage | B11: Registrierungsnummer (PV-Melderegister) | C11: ^ASO\-[0-9]{6}\-[0-9]{2}$ | D11: ASO-378948-89
A12: Speicher Gas | B12: W-EIC | C12: ^[0-9]{2}W[0-9a-zA-Z\-]{13}$

Sheet Revision
A1: Objekt | B1: Feldname | C1: alter Wert | D1: neuer Wert | E1: Release
A2: Einheit | B2: An Hoch/Höchstspannung angeschlossen | D2: entfernt | E2: 23/1
A3: Einheit | B3: Registrierungsdatum (Hinweis) | C3: Änderung bei jedem Statusübergang | D3: Änderung nur noch von In Planung zu In Betrieb | E3: 23/1
A4: EEG, KWK, Speicher | B4: Registrierungsdatum (Hinweis) | D4: Zusätzliche Änderung von In Planung zu In Betrieb | E4: 23/1
A5: Einheit | B5: Ausschließliche Verwendung im Kombibetrieb | D5: hinzugefügt | E5: 23/1
A6: EEG-Anlage | B6: Anlagenschlüssel EEG | C6: NBP-relevant | D6: NBP-relevant entfällt, Haken entfernt | E6: 23/1
A7: EEG-Anlage | B7: Anlagenschlüssel EEG (Wertebereich) | D7: keine Formatprüfung mehr bei Speichern | E7: 23/1
A8: EEG-Anlage | B8: Anlagenschlüssel EEG (Hinweis) | D8: nur noch durch NB und BNA bearbeitbar | E8: 23/1
A9: Einheit | B9: MaStR-Nummern Kombibetrieb (Wertebereich) | C9: Formatprüfung | D9: Mehrfachauswahl aus aktiven Verbrennern | E9: 23/1
A10: Kataloge | B10: Flächenart | D10: neue Werte hinzugefügt | E10: 23/1
A11: Kataloge | B11: Lage PV | D11: Großparkplatz hinzugefügt | E11: 23/1
A12: Ertüchtigungsmaßnahme | B12: Datum der Wiederinbetriebnahme nach Durchführung der Ertüchtigungsmaßnahme (Wertebereich) | C12: X > EEG Inbetriebnahmedatum | D12: entfallen | E12: 23/1
A13: Einheit | B13: Datum der endgültigen Stilllegung (Wertebereich) | C13: Inbetriebnahmedatum oder Beginn vor. Stilllegung < X < Heute | D13: Inbetriebnahmedatum < X < Heute | E13: 23/1
A14: Speicher | B14: Durchschnittlicher Brennwert (Einheit) | C14: kW/Nm³ | D14: kWh/Nm³ | E14: 23/1
A15: EEG-Anlage | B15: Anlagenkennziffer aus dem Anlagenregister | C15: EEG Inbetriebnahmedatum > 31.7.2014 | D15: 31.7.2014 < EEG Inbetriebnahmedatum < 31.1.2019 | E15: 23/1
A16: Einheit | B16: Leistungsaufnahme im Pumpbetrieb (Sichtbarkeit) | C16: Technologie (Stromspeicher) = Pumpspeicher | D16: Technologie (Stromspeicher) = Pumpspeicher oder Wasserstoffspeicher | E16: 23/2
A17: Kataloge | B17: Lage PV | C17: Steckerfertige Erzeugungsanlage (sog. Plug-In- oder Balkon-PV-Anlage) | D17: Steckerfertige Erzeugungsanlage (sog. Balkonkraftwerk) | E17: 23/2
A18: Kataloge | B18: Technologie Stromspeicher | D18: Sonstiges entfernt, Wasserstoff hinzugefügt | E18: 23/2
A19: Einheit | B19: Bruttoleistung (PV, Stromspeicher) (Wertebereich) | C19: wenn PV oder Batteriespeicher: 0 < X <= 200.000 wenn Stromspeicher (außer Batteriespeicher): 0 < x < 1.000.000 | D19: wenn PV: 0 < X <= 200.000 wenn Stromspeicher: 0 < x < 1.000.000 | E19: 23/2
A20: Einheit | B20: Nettonennleistung (PV, Stromspeicher) (Wertebereich) | C20: wenn PV oder Batteriespeicher: 0 < x < = 200.000 (berechnet) wenn Stromspeicher (außer Batteriespeicher): 0 < x < 1.000.000 | D20: wenn PV: 0 < x < = 200.000 (berechnet) wenn Stromspeicher: 0 < x < 1.000.000 | E20: 23/2
A21: Einheit | B21: Zugeordnete Wirkleistung des/der Wechselrichter (Wertebereich) | C21: 0 < X <= 200.000 | D21: 0 < X <= 200.000 wenn Batteriespeicher: 0 < x < 1.000.000 | E21: 23/2
A22: Einheit | B22: Zählernummer | D22: hinzugefügt | E22: 23/2
A23: EEG-Anlage | B23: Installierte Leistung (Wertebereich) | C23: 0 < X <= 5.000.000 / bei stillg. Anlagen: 0 <= x <= 5.000.000 | D23: 0 < X <= 5.000.000 / bei stillg. Anlagen: 0 <= x <= 5.000.000 bei Solar berechnet aus Bruttoleistung | E23: 23/2
A24: Einheit | B24: Zählernummer (Pflichtangabe) | C24: R | D24: R° (nur Pflicht wenn Registrierungsdatum >= 1.4.24) | E24: 23/2
A25: Kataloge | B25: Technologie Verbrennung | D25: Reihenfolge angepasst | E25: 24/1
A26: Einheit | B26: Lage PV (Hinweis) | D26: Balkon-PV nicht in Planung möglich | E26: 24/1
A27: Einheit | B27: Name der Einheit | D27: wird bei SSA vorbefüllt | E27: 24/1
A28: Einheit | B28: Adressdaten | D28: wird bei SG und SSA vorbefüllt | E28: 24/1
A29: Einheit | B29: Ersatzversorgung bei Stromnetzstörung | D29: beim SSA Speicher vorbefüllt | E29: 24/1
A30: Einheit | B30: Art der Einspeisung | D30: vorbefüllt bei SSA und SSA Speicher | E30: 24/1
A31: Einheit | B31: AC oder DC gekoppeltes System | D31: vorbefüllt bei SSA Speicher | E31: 24/1
A32: Einheit | B32: Batterietechnologie | D32: vorbefüllt bei SSA Speicher | E32: 24/1
A33: Einheit | B33: Technologie (Stromspeicher) | D33: vorbefüllt bei SSA Speicher | E33: 24/1
A34: Einheit | B34: Zugeordnete Wirkleistung des/der Wechselrichter | D34: vorbefüllt bei SSA Speicher | E34: 24/1
A35: Einheit | B35: Inbetriebnahmedatum | D35: vorbefüllt bei SSA und SSA Speicher | E35: 24/1
A36: Einheit | B36: Leistungsbegrenzung(Sichtbarkeit) | D36: Inbetriebnahmedatum < 01.01.2023 | E36: 24/1
A37: EEG-Anlage | B37: Zuschlag erlangt (Sichtbarkeit) | D37: bei Solar Nettonennleistung >= 25 kW | E37: 24/1
A38: EEG-Anlage | B38: Zuschlagsnummern(PV) (Sichtbarkeit) | C38: Zuschlag erlangt = ja | D38: Zuschlag erlangt = ja UND Nettonennleistung >= 25 kW | E38: 24/1
A39: EEG-Anlage | B39: Zugeordnete Gebotsmengen (Sichtbarkeit) | C39: Zuschlag erlangt = ja | D39: Zuschlag erlangt = ja UND Nettonennleistung >= 25 kW | E39: 24/1
A40: EEG-Anlage | B40: Mieterstrom angemeldet (Sichtbarkeit) | C40: Installierte Leistung <= 100 kW und EEG Inbetriebnahmedatum > 24.07.2017 | D40: Installierte Leistung <= 100 kW und EEG Inbetriebnahmedatum > 24.07.2017 und Inbetriebnahme der Einheit < 01.01.2023 | E40: 24/1
...
